BEGIN:VCALENDAR
VERSION:2.0
PRODID:-//BMFA Contests &amp; Events - ECPv6.15.20//NONSGML v1.0//EN
CALSCALE:GREGORIAN
METHOD:PUBLISH
X-WR-CALNAME:BMFA Contests &amp; Events
X-ORIGINAL-URL:https://events.bmfa.uk
X-WR-CALDESC:Events for BMFA Contests &amp; Events
REFRESH-INTERVAL;VALUE=DURATION:PT1H
X-Robots-Tag:noindex
X-PUBLISHED-TTL:PT1H
BEGIN:VTIMEZONE
TZID:Europe/London
BEGIN:DAYLIGHT
TZOFFSETFROM:+0000
TZOFFSETTO:+0100
TZNAME:BST
DTSTART:20250330T010000
END:DAYLIGHT
BEGIN:STANDARD
TZOFFSETFROM:+0100
TZOFFSETTO:+0000
TZNAME:GMT
DTSTART:20251026T010000
END:STANDARD
BEGIN:DAYLIGHT
TZOFFSETFROM:+0000
TZOFFSETTO:+0100
TZNAME:BST
DTSTART:20260329T010000
END:DAYLIGHT
BEGIN:STANDARD
TZOFFSETFROM:+0100
TZOFFSETTO:+0000
TZNAME:GMT
DTSTART:20261025T010000
END:STANDARD
BEGIN:DAYLIGHT
TZOFFSETFROM:+0000
TZOFFSETTO:+0100
TZNAME:BST
DTSTART:20270328T010000
END:DAYLIGHT
BEGIN:STANDARD
TZOFFSETFROM:+0100
TZOFFSETTO:+0000
TZNAME:GMT
DTSTART:20271031T010000
END:STANDARD
END:VTIMEZONE
BEGIN:VEVENT
DTSTART;TZID=Europe/London:20261003T090000
DTEND;TZID=Europe/London:20261003T113000
DTSTAMP:20260419T132202
CREATED:20251110T201642Z
LAST-MODIFIED:20251110T201642Z
UID:10001817-1791018000-1791027000@events.bmfa.uk
SUMMARY:Salisbury Model Flying Club Swap meet
DESCRIPTION:Salisbury Model Flying Club Will be holding a model aircraft Swap meet\ndealing with all types of flying models\, engines\, radio control equipment and\naccessories.
URL:https://events.bmfa.uk/event/salisbury-model-flying-club-swap-meet
LOCATION:Alderbury Village Hall\, Southampton Road\, Near Salisbury\, Wilts\, SP5 3AD\, Alderbury Village Hall\, Southampton Road\, Near Salisbury\, Wilts\, SP5 3AD\, Salisbury\, SP53AD
CATEGORIES:Club Event
GEO:51.0397325;-1.7279417
X-APPLE-STRUCTURED-LOCATION;VALUE=URI;X-ADDRESS=Alderbury Village Hall Southampton Road Near Salisbury Wilts SP5 3AD Alderbury Village Hall Southampton Road Near Salisbury Wilts SP5 3AD Salisbury SP53AD;X-APPLE-RADIUS=500;X-TITLE=Alderbury Village Hall\, Southampton Road\, Near Salisbury\, Wilts\, SP5 3AD:geo:-1.7279417,51.0397325
END:VEVENT
BEGIN:VEVENT
DTSTART;TZID=Europe/London:20261003T093000
DTEND;TZID=Europe/London:20261004T170000
DTSTAMP:20260419T132202
CREATED:20251208T235231Z
LAST-MODIFIED:20251208T235231Z
UID:10001844-1791019800-1791133200@events.bmfa.uk
SUMMARY:British Nationals Combat Reserve Date
DESCRIPTION:Nats reserve date. If any of the Nats events were not completed\, they will be scheduled over this weekend.  The CFA will publish any events to be continued with a schedule. If the reserve dates are not required then the C/L area will be available for practice and / or scratch competitions
URL:https://events.bmfa.uk/event/british-nationals-combat-reserve-date
LOCATION:BMFA Buckminster\, Main Street\, Sewstern\, Grantham\, Lincolnshire\, NG33 5RW\, United Kingdom
CATEGORIES:Control Line Event
ATTACH;FMTTYPE=image/jpeg:https://events.bmfa.uk/wp-content/uploads/2025/12/3-scaled.jpg
GEO:52.7860118;-0.6844261
X-APPLE-STRUCTURED-LOCATION;VALUE=URI;X-ADDRESS=BMFA Buckminster Main Street Sewstern Grantham Lincolnshire NG33 5RW United Kingdom;X-APPLE-RADIUS=500;X-TITLE=Main Street\, Sewstern:geo:-0.6844261,52.7860118
END:VEVENT
BEGIN:VEVENT
DTSTART;VALUE=DATE:20261003
DTEND;VALUE=DATE:20261004
DTSTAMP:20260419T132202
CREATED:20251230T131755Z
LAST-MODIFIED:20251230T131755Z
UID:10001866-1791021600-1791046800@events.bmfa.uk
SUMMARY:Control Line Centralized meeting
DESCRIPTION:Control Line Speed Competition all Open classes except Jet classes F2A F2G and Nostalgic Speed all classes.
URL:https://events.bmfa.uk/event/control-line-centralized-meeting/2026-10-03
LOCATION:BMFA Buckminster\, Main Street\, Sewstern\, Grantham\, Lincolnshire\, NG33 5RW\, United Kingdom
CATEGORIES:Area Centralised
GEO:52.7860118;-0.6844261
X-APPLE-STRUCTURED-LOCATION;VALUE=URI;X-ADDRESS=BMFA Buckminster Main Street Sewstern Grantham Lincolnshire NG33 5RW United Kingdom;X-APPLE-RADIUS=500;X-TITLE=Main Street\, Sewstern:geo:-0.6844261,52.7860118
END:VEVENT
END:VCALENDAR