BEGIN:VCALENDAR
VERSION:2.0
PRODID:-//BMFA Contests &amp; Events - ECPv6.15.20//NONSGML v1.0//EN
CALSCALE:GREGORIAN
METHOD:PUBLISH
X-WR-CALNAME:BMFA Contests &amp; Events
X-ORIGINAL-URL:https://events.bmfa.uk
X-WR-CALDESC:Events for BMFA Contests &amp; Events
REFRESH-INTERVAL;VALUE=DURATION:PT1H
X-Robots-Tag:noindex
X-PUBLISHED-TTL:PT1H
BEGIN:VTIMEZONE
TZID:Europe/London
BEGIN:DAYLIGHT
TZOFFSETFROM:+0000
TZOFFSETTO:+0100
TZNAME:BST
DTSTART:20250330T010000
END:DAYLIGHT
BEGIN:STANDARD
TZOFFSETFROM:+0100
TZOFFSETTO:+0000
TZNAME:GMT
DTSTART:20251026T010000
END:STANDARD
BEGIN:DAYLIGHT
TZOFFSETFROM:+0000
TZOFFSETTO:+0100
TZNAME:BST
DTSTART:20260329T010000
END:DAYLIGHT
BEGIN:STANDARD
TZOFFSETFROM:+0100
TZOFFSETTO:+0000
TZNAME:GMT
DTSTART:20261025T010000
END:STANDARD
BEGIN:DAYLIGHT
TZOFFSETFROM:+0000
TZOFFSETTO:+0100
TZNAME:BST
DTSTART:20270328T010000
END:DAYLIGHT
BEGIN:STANDARD
TZOFFSETFROM:+0100
TZOFFSETTO:+0000
TZNAME:GMT
DTSTART:20271031T010000
END:STANDARD
END:VTIMEZONE
BEGIN:VEVENT
DTSTART;VALUE=DATE:20261010
DTEND;VALUE=DATE:20261012
DTSTAMP:20260419T132205
CREATED:20260120T212409Z
LAST-MODIFIED:20260120T212409Z
UID:10002007-1791590400-1791763199@events.bmfa.uk
SUMMARY:SAM 35 Autumn Gala
DESCRIPTION:SAM 35 Galas include all types of flying\, including vintage RC\, control line\, free flight\, and both rubber and IC powered\, with an amazing selection of scale models\, as well as tethered cars.  At the Galas there are always a number of competitions to enter\, such as Spot Landing and Vintage Power Duration.  However\, there’s never any pressure to take part\, if you wish to just observe or have some relaxed sports flying on the main flying strip\, that’s just fine. Also\, coinciding with the SAM 35 Galas is the excellent BMFA Swapmeets\, held on the Sunday mornings.
URL:https://events.bmfa.uk/event/sam-35-autumn-gala
LOCATION:BMFA Buckminster\, Main Street\, Sewstern\, Grantham\, Lincolnshire\, NG33 5RW\, United Kingdom
CATEGORIES:Club Event,Control Line Event,Fly-In,Free Flight event,Scale Event,Tethered Car
ATTACH;FMTTYPE=image/jpeg:https://events.bmfa.uk/wp-content/uploads/2026/01/Autumn-Gala-SAM-35-Events.jpg
GEO:52.7860118;-0.6844261
X-APPLE-STRUCTURED-LOCATION;VALUE=URI;X-ADDRESS=BMFA Buckminster Main Street Sewstern Grantham Lincolnshire NG33 5RW United Kingdom;X-APPLE-RADIUS=500;X-TITLE=Main Street\, Sewstern:geo:-0.6844261,52.7860118
END:VEVENT
BEGIN:VEVENT
DTSTART;TZID=Europe/London:20261010T090000
DTEND;TZID=Europe/London:20261011T170000
DTSTAMP:20260419T132205
CREATED:20251230T131802Z
LAST-MODIFIED:20251230T131802Z
UID:10002471-1791622800-1791738000@events.bmfa.uk
SUMMARY:Control Line Centralized meeting
DESCRIPTION:Speed weekend all open classes F2A\, F2G\, Club Speed. Speed Centralized on Sunday.
URL:https://events.bmfa.uk/event/control-line-centralized-meeting-2
LOCATION:Barton MFC\, Barton-Moss\, Irlam\, M30 7RL\, United Kingdom
CATEGORIES:Control Line Event
GEO:53.4688499;-2.3968689
X-APPLE-STRUCTURED-LOCATION;VALUE=URI;X-ADDRESS=Barton MFC Barton-Moss Irlam M30 7RL United Kingdom;X-APPLE-RADIUS=500;X-TITLE=Barton-Moss:geo:-2.3968689,53.4688499
END:VEVENT
BEGIN:VEVENT
DTSTART;TZID=Europe/London:20261010T183000
DTEND;TZID=Europe/London:20261010T220000
DTSTAMP:20260419T132205
CREATED:20240318T221640Z
LAST-MODIFIED:20250129T080902Z
UID:10000553-1791657000-1791669600@events.bmfa.uk
SUMMARY:Tonbridge Gassers and Rubber Fliers
DESCRIPTION:Indoor Fun Fly with timed slots for Free Flight\, Lightweight R/C\, and 3D R/C.
URL:https://events.bmfa.uk/event/tonbridge-gassers-and-rubber-fliers/2026-10-10
LOCATION:Kings Rochester Sports Centre\, 601 Maidstone Road\, Rochester\, Kent\, ME1-3QJ
CATEGORIES:Club Event
GEO:51.3593156;0.4978734
X-APPLE-STRUCTURED-LOCATION;VALUE=URI;X-ADDRESS=Kings Rochester Sports Centre 601 Maidstone Road Rochester Kent ME1-3QJ;X-APPLE-RADIUS=500;X-TITLE=601 Maidstone Road:geo:0.4978734,51.3593156
END:VEVENT
END:VCALENDAR