BEGIN:VCALENDAR
VERSION:2.0
PRODID:-//BMFA Contests &amp; Events - ECPv6.15.20//NONSGML v1.0//EN
CALSCALE:GREGORIAN
METHOD:PUBLISH
X-WR-CALNAME:BMFA Contests &amp; Events
X-ORIGINAL-URL:https://events.bmfa.uk
X-WR-CALDESC:Events for BMFA Contests &amp; Events
REFRESH-INTERVAL;VALUE=DURATION:PT1H
X-Robots-Tag:noindex
X-PUBLISHED-TTL:PT1H
BEGIN:VTIMEZONE
TZID:Europe/London
BEGIN:DAYLIGHT
TZOFFSETFROM:+0000
TZOFFSETTO:+0100
TZNAME:BST
DTSTART:20250330T010000
END:DAYLIGHT
BEGIN:STANDARD
TZOFFSETFROM:+0100
TZOFFSETTO:+0000
TZNAME:GMT
DTSTART:20251026T010000
END:STANDARD
BEGIN:DAYLIGHT
TZOFFSETFROM:+0000
TZOFFSETTO:+0100
TZNAME:BST
DTSTART:20260329T010000
END:DAYLIGHT
BEGIN:STANDARD
TZOFFSETFROM:+0100
TZOFFSETTO:+0000
TZNAME:GMT
DTSTART:20261025T010000
END:STANDARD
BEGIN:DAYLIGHT
TZOFFSETFROM:+0000
TZOFFSETTO:+0100
TZNAME:BST
DTSTART:20270328T010000
END:DAYLIGHT
BEGIN:STANDARD
TZOFFSETFROM:+0100
TZOFFSETTO:+0000
TZNAME:GMT
DTSTART:20271031T010000
END:STANDARD
END:VTIMEZONE
BEGIN:VEVENT
DTSTART;TZID=Europe/London:20261014T093000
DTEND;TZID=Europe/London:20261014T170000
DTSTAMP:20260419T132131
CREATED:20260319T145150Z
LAST-MODIFIED:20260319T145150Z
UID:10002386-1791970200-1791997200@events.bmfa.uk
SUMMARY:Buckminster midweek scale
DESCRIPTION:Scale competition to BMFA RC3 rules. Separate classes for ARF and those who have built their model. All are welcome. Mentoring available to newcomers to to scale competition \nFlying to start at 9.30 in case of large entry.
URL:https://events.bmfa.uk/event/buckminster-midweek-scale
LOCATION:BMFA Buckminster\, Main Street\, Sewstern\, Grantham\, Lincolnshire\, NG33 5RW\, United Kingdom
CATEGORIES:Scale Event
ATTACH;FMTTYPE=image/jpeg:https://events.bmfa.uk/wp-content/uploads/2026/03/IMG_0530.jpeg
GEO:52.7860118;-0.6844261
X-APPLE-STRUCTURED-LOCATION;VALUE=URI;X-ADDRESS=BMFA Buckminster Main Street Sewstern Grantham Lincolnshire NG33 5RW United Kingdom;X-APPLE-RADIUS=500;X-TITLE=Main Street\, Sewstern:geo:-0.6844261,52.7860118
END:VEVENT
END:VCALENDAR