BEGIN:VCALENDAR
VERSION:2.0
PRODID:-//BMFA Contests &amp; Events - ECPv6.15.20//NONSGML v1.0//EN
CALSCALE:GREGORIAN
METHOD:PUBLISH
X-ORIGINAL-URL:https://events.bmfa.uk
X-WR-CALDESC:Events for BMFA Contests &amp; Events
REFRESH-INTERVAL;VALUE=DURATION:PT1H
X-Robots-Tag:noindex
X-PUBLISHED-TTL:PT1H
BEGIN:VTIMEZONE
TZID:Europe/London
BEGIN:DAYLIGHT
TZOFFSETFROM:+0000
TZOFFSETTO:+0100
TZNAME:BST
DTSTART:20250330T010000
END:DAYLIGHT
BEGIN:STANDARD
TZOFFSETFROM:+0100
TZOFFSETTO:+0000
TZNAME:GMT
DTSTART:20251026T010000
END:STANDARD
BEGIN:DAYLIGHT
TZOFFSETFROM:+0000
TZOFFSETTO:+0100
TZNAME:BST
DTSTART:20260329T010000
END:DAYLIGHT
BEGIN:STANDARD
TZOFFSETFROM:+0100
TZOFFSETTO:+0000
TZNAME:GMT
DTSTART:20261025T010000
END:STANDARD
BEGIN:DAYLIGHT
TZOFFSETFROM:+0000
TZOFFSETTO:+0100
TZNAME:BST
DTSTART:20270328T010000
END:DAYLIGHT
BEGIN:STANDARD
TZOFFSETFROM:+0100
TZOFFSETTO:+0000
TZNAME:GMT
DTSTART:20271031T010000
END:STANDARD
END:VTIMEZONE
BEGIN:VEVENT
DTSTART;TZID=Europe/London:20261220T100000
DTEND;TZID=Europe/London:20261220T140000
DTSTAMP:20260419T144906
CREATED:20260414T232603Z
LAST-MODIFIED:20260414T232603Z
UID:10002553-1797760800-1797775200@events.bmfa.uk
SUMMARY:Medway MFC Indoor Flying Day
DESCRIPTION:Indoor flying for Free Flight\, Radio Control and rotary models. RC flown in rounds \nLarge Sports Hall \nBMFA membership required. \n£15.00. Juniors Free. \nRegister your vehicle in reception.
URL:https://events.bmfa.uk/event/medway-mfc-indoor-flying-day
LOCATION:Medway Park Sport Centre \, Gillingham Kent \, ME7 1HF\, Mill Road\, Gillingham Kent\, ME7 1HF
CATEGORIES:Club Event,Indoor Flying
ATTACH;FMTTYPE=image/jpeg:https://events.bmfa.uk/wp-content/uploads/2026/04/banner_indoor-1.jpg
GEO:51.3896607;0.5422582
X-APPLE-STRUCTURED-LOCATION;VALUE=URI;X-ADDRESS=Medway Park Sport Centre  Gillingham Kent  ME7 1HF Mill Road Gillingham Kent ME7 1HF;X-APPLE-RADIUS=500;X-TITLE=Mill Road:geo:0.5422582,51.3896607
END:VEVENT
END:VCALENDAR