BEGIN:VCALENDAR
VERSION:2.0
PRODID:-//BMFA Contests &amp; Events - ECPv6.15.20//NONSGML v1.0//EN
CALSCALE:GREGORIAN
METHOD:PUBLISH
X-ORIGINAL-URL:https://events.bmfa.uk
X-WR-CALDESC:Events for BMFA Contests &amp; Events
REFRESH-INTERVAL;VALUE=DURATION:PT1H
X-Robots-Tag:noindex
X-PUBLISHED-TTL:PT1H
BEGIN:VTIMEZONE
TZID:Europe/London
BEGIN:DAYLIGHT
TZOFFSETFROM:+0000
TZOFFSETTO:+0100
TZNAME:BST
DTSTART:20250330T010000
END:DAYLIGHT
BEGIN:STANDARD
TZOFFSETFROM:+0100
TZOFFSETTO:+0000
TZNAME:GMT
DTSTART:20251026T010000
END:STANDARD
BEGIN:DAYLIGHT
TZOFFSETFROM:+0000
TZOFFSETTO:+0100
TZNAME:BST
DTSTART:20260329T010000
END:DAYLIGHT
BEGIN:STANDARD
TZOFFSETFROM:+0100
TZOFFSETTO:+0000
TZNAME:GMT
DTSTART:20261025T010000
END:STANDARD
BEGIN:DAYLIGHT
TZOFFSETFROM:+0000
TZOFFSETTO:+0100
TZNAME:BST
DTSTART:20270328T010000
END:DAYLIGHT
BEGIN:STANDARD
TZOFFSETFROM:+0100
TZOFFSETTO:+0000
TZNAME:GMT
DTSTART:20271031T010000
END:STANDARD
END:VTIMEZONE
BEGIN:VEVENT
DTSTART;VALUE=DATE:20260531
DTEND;VALUE=DATE:20260601
DTSTAMP:20260420T183439
CREATED:20260319T145136Z
LAST-MODIFIED:20260319T145136Z
UID:10002391-1780185600-1780271999@events.bmfa.uk
SUMMARY:Skelbrooke National League Competition
DESCRIPTION:Entries are invited for the Skelbrooke National League League competition on the 31st May 2026\nAll schedules will be flown including the ‘F schedule\nIf you prepared to judge\, please let me know as soon as possible.  This could be either as a pilot judge or pure judge.  \n\nGate Opening: Around 8:00.\nPilots Briefing: At 8:30.\nFirst Flight: Scheduled for 9:00The prices vary depedning on the class you enter:Clubman £8\nIntermediate £16 \nAdvanced A-27 £22 \nP-27 £22 \nP-27 & F-27 £22
URL:https://events.bmfa.uk/event/skelbrooke-national-league-competition
LOCATION:Skelbrooke MFC\, Straight Lane\, Skelbrooke\, Doncaster\, DN6 8LX\, United Kingdom
CATEGORIES:Aerobatics Event
GEO:53.6017284;-1.2309711
X-APPLE-STRUCTURED-LOCATION;VALUE=URI;X-ADDRESS=Skelbrooke MFC Straight Lane Skelbrooke Doncaster DN6 8LX United Kingdom;X-APPLE-RADIUS=500;X-TITLE=Straight Lane\, Skelbrooke:geo:-1.2309711,53.6017284
END:VEVENT
END:VCALENDAR