BEGIN:VCALENDAR
VERSION:2.0
PRODID:-//BMFA Contests &amp; Events - ECPv6.15.20//NONSGML v1.0//EN
CALSCALE:GREGORIAN
METHOD:PUBLISH
X-WR-CALNAME:BMFA Contests &amp; Events
X-ORIGINAL-URL:https://events.bmfa.uk
X-WR-CALDESC:Events for BMFA Contests &amp; Events
REFRESH-INTERVAL;VALUE=DURATION:PT1H
X-Robots-Tag:noindex
X-PUBLISHED-TTL:PT1H
BEGIN:VTIMEZONE
TZID:Europe/London
BEGIN:DAYLIGHT
TZOFFSETFROM:+0000
TZOFFSETTO:+0100
TZNAME:BST
DTSTART:20250330T010000
END:DAYLIGHT
BEGIN:STANDARD
TZOFFSETFROM:+0100
TZOFFSETTO:+0000
TZNAME:GMT
DTSTART:20251026T010000
END:STANDARD
BEGIN:DAYLIGHT
TZOFFSETFROM:+0000
TZOFFSETTO:+0100
TZNAME:BST
DTSTART:20260329T010000
END:DAYLIGHT
BEGIN:STANDARD
TZOFFSETFROM:+0100
TZOFFSETTO:+0000
TZNAME:GMT
DTSTART:20261025T010000
END:STANDARD
BEGIN:DAYLIGHT
TZOFFSETFROM:+0000
TZOFFSETTO:+0100
TZNAME:BST
DTSTART:20270328T010000
END:DAYLIGHT
BEGIN:STANDARD
TZOFFSETFROM:+0100
TZOFFSETTO:+0000
TZNAME:GMT
DTSTART:20271031T010000
END:STANDARD
END:VTIMEZONE
BEGIN:VEVENT
DTSTART;TZID=Europe/London:20261007T200000
DTEND;TZID=Europe/London:20261007T213000
DTSTAMP:20260419T204537
CREATED:20251006T111632Z
LAST-MODIFIED:20251006T111632Z
UID:10001620-1791403200-1791408600@events.bmfa.uk
SUMMARY:BMFA NE Area Monthly Meeting
DESCRIPTION:Your clubs chance to have their say in how the North East Area is run. All BMFA NE Area club members are welcome to attend but only the appointed club delegate can vote.
URL:https://events.bmfa.uk/event/bmfa-ne-area-monthly-meeting-13
LOCATION:Burnmoor Cricket Club\, Chester Road\, Burnmoor\, DH4 6EX
CATEGORIES:BMFA North East Area
GEO:54.8578048;-1.5192504
X-APPLE-STRUCTURED-LOCATION;VALUE=URI;X-ADDRESS=Burnmoor Cricket Club Chester Road Burnmoor DH4 6EX;X-APPLE-RADIUS=500;X-TITLE=Chester Road:geo:-1.5192504,54.8578048
END:VEVENT
BEGIN:VEVENT
DTSTART;VALUE=DATE:20261010
DTEND;VALUE=DATE:20261012
DTSTAMP:20260419T204537
CREATED:20260120T212409Z
LAST-MODIFIED:20260120T212409Z
UID:10002007-1791590400-1791763199@events.bmfa.uk
SUMMARY:SAM 35 Autumn Gala
DESCRIPTION:SAM 35 Galas include all types of flying\, including vintage RC\, control line\, free flight\, and both rubber and IC powered\, with an amazing selection of scale models\, as well as tethered cars.  At the Galas there are always a number of competitions to enter\, such as Spot Landing and Vintage Power Duration.  However\, there’s never any pressure to take part\, if you wish to just observe or have some relaxed sports flying on the main flying strip\, that’s just fine. Also\, coinciding with the SAM 35 Galas is the excellent BMFA Swapmeets\, held on the Sunday mornings.
URL:https://events.bmfa.uk/event/sam-35-autumn-gala
LOCATION:BMFA Buckminster\, Main Street\, Sewstern\, Grantham\, Lincolnshire\, NG33 5RW\, United Kingdom
CATEGORIES:Club Event,Control Line Event,Fly-In,Free Flight event,Scale Event,Tethered Car
ATTACH;FMTTYPE=image/jpeg:https://events.bmfa.uk/wp-content/uploads/2026/01/Autumn-Gala-SAM-35-Events.jpg
GEO:52.7860118;-0.6844261
X-APPLE-STRUCTURED-LOCATION;VALUE=URI;X-ADDRESS=BMFA Buckminster Main Street Sewstern Grantham Lincolnshire NG33 5RW United Kingdom;X-APPLE-RADIUS=500;X-TITLE=Main Street\, Sewstern:geo:-0.6844261,52.7860118
END:VEVENT
BEGIN:VEVENT
DTSTART;TZID=Europe/London:20261010T090000
DTEND;TZID=Europe/London:20261011T170000
DTSTAMP:20260419T204537
CREATED:20251230T131802Z
LAST-MODIFIED:20251230T131802Z
UID:10002471-1791622800-1791738000@events.bmfa.uk
SUMMARY:Control Line Centralized meeting
DESCRIPTION:Speed weekend all open classes F2A\, F2G\, Club Speed. Speed Centralized on Sunday.
URL:https://events.bmfa.uk/event/control-line-centralized-meeting-2
LOCATION:Barton MFC\, Barton-Moss\, Irlam\, M30 7RL\, United Kingdom
CATEGORIES:Control Line Event
GEO:53.4688499;-2.3968689
X-APPLE-STRUCTURED-LOCATION;VALUE=URI;X-ADDRESS=Barton MFC Barton-Moss Irlam M30 7RL United Kingdom;X-APPLE-RADIUS=500;X-TITLE=Barton-Moss:geo:-2.3968689,53.4688499
END:VEVENT
BEGIN:VEVENT
DTSTART;TZID=Europe/London:20261010T183000
DTEND;TZID=Europe/London:20261010T220000
DTSTAMP:20260419T204537
CREATED:20240318T221640Z
LAST-MODIFIED:20250129T080902Z
UID:10000553-1791657000-1791669600@events.bmfa.uk
SUMMARY:Tonbridge Gassers and Rubber Fliers
DESCRIPTION:Indoor Fun Fly with timed slots for Free Flight\, Lightweight R/C\, and 3D R/C.
URL:https://events.bmfa.uk/event/tonbridge-gassers-and-rubber-fliers/2026-10-10
LOCATION:Kings Rochester Sports Centre\, 601 Maidstone Road\, Rochester\, Kent\, ME1-3QJ
CATEGORIES:Club Event
GEO:51.3593156;0.4978734
X-APPLE-STRUCTURED-LOCATION;VALUE=URI;X-ADDRESS=Kings Rochester Sports Centre 601 Maidstone Road Rochester Kent ME1-3QJ;X-APPLE-RADIUS=500;X-TITLE=601 Maidstone Road:geo:0.4978734,51.3593156
END:VEVENT
BEGIN:VEVENT
DTSTART;VALUE=DATE:20261011
DTEND;VALUE=DATE:20261012
DTSTAMP:20260419T204537
CREATED:20260319T145259Z
LAST-MODIFIED:20260319T145259Z
UID:10002398-1791676800-1791763199@events.bmfa.uk
SUMMARY:Season Finale. London Colney\, Phoenix MFC
DESCRIPTION:The phoenix end of season comp is to be open for entries from 22nd Feruary. Please use the entry form provided.\nHot drinks and a warm hut available all day.\nWc available.\nAll classes to be flown. Due to the time of year entries will be limited to 16 and the start time will be 9 am. \nThe prices vary depedning on the class you enter: \nClubman £8 \nIntermediate £16 \nAdvanced A-27 £22 \nP-27 £22 \nP-27 & F-27 £22
URL:https://events.bmfa.uk/event/season-finale-london-colney-phoenix-mfc
LOCATION:Phoenix MFC\, Ridge Hill\, London Colney\, AL2
CATEGORIES:Aerobatics Event
GEO:51.7188203;-0.42533
X-APPLE-STRUCTURED-LOCATION;VALUE=URI;X-ADDRESS=Phoenix MFC Ridge Hill London Colney AL2;X-APPLE-RADIUS=500;X-TITLE=Ridge Hill:geo:-0.42533,51.7188203
END:VEVENT
BEGIN:VEVENT
DTSTART;TZID=Europe/London:20261011T080000
DTEND;TZID=Europe/London:20261011T150000
DTSTAMP:20260419T204537
CREATED:20260410T100705Z
LAST-MODIFIED:20260410T102523Z
UID:10002537-1791705600-1791730800@events.bmfa.uk
SUMMARY:SWAPMEET
DESCRIPTION:Swapmeet in conjunction with SAM 35 events. \n\nOver 60 indoor tables –\nOutdoor space –\nShoppers £5.00 entry –\nFlyers’ Cafe open –\nPublic access from 10am.\n\n 
URL:https://events.bmfa.uk/event/swapmeet/2026-10-11
LOCATION:BMFA Buckminster\, Main Street\, Sewstern\, Grantham\, Lincolnshire\, NG33 5RW\, United Kingdom
CATEGORIES:Swapmeet/Auction
ATTACH;FMTTYPE=image/jpeg:https://events.bmfa.uk/wp-content/uploads/2026/04/Swapmeet-advert.jpg
ORGANIZER;CN="Manny Williamson":MAILTO:manny@bmfa.org
GEO:52.7860118;-0.6844261
X-APPLE-STRUCTURED-LOCATION;VALUE=URI;X-ADDRESS=BMFA Buckminster Main Street Sewstern Grantham Lincolnshire NG33 5RW United Kingdom;X-APPLE-RADIUS=500;X-TITLE=Main Street\, Sewstern:geo:-0.6844261,52.7860118
END:VEVENT
BEGIN:VEVENT
DTSTART;TZID=Europe/London:20261011T100000
DTEND;TZID=Europe/London:20261011T160000
DTSTAMP:20260419T204537
CREATED:20260223T190629Z
LAST-MODIFIED:20260324T100255Z
UID:10002337-1791712800-1791734400@events.bmfa.uk
SUMMARY:LMA Gaydon - Large Model Static Indoor Show
DESCRIPTION:LMA GAYDON – LARGE MODEL STATIC INDOOR SHOW \nOur popular indoor static large model show returns to our usual slot in October for 2026! \nRead on below to find out more… \n  \nWhat’s On? \nThe show is open from 10am until approx. 4pm. \nIt gives you a chance to get up close and personal with many of the models that flew in this years shows\, as well as take a look at new upcoming projects being prepared for next year onwards. You can also get chance to chat to the builders/ pilots and take as many pics/ vids as you like. \nIncluded into the entry ticket is also access to the Motor Museum itself\, with over 300 cars out on display\, from old age classics to the latest supercars and everything inbetween. \nA great day out for all the family! \n  \nTrade \nWe have limited trade space at Gaydon\, but we certainly know how to fill it!! So get your wallets at the ready and prepare your vehicles to fill them full of end-of-season modelling goodies for your Winter builds! \nPerhaps you are looking to treat yourself to something new? We won’t tell\, we promise! \nTrade list will be announced nearer the time. \n  \nTickets \nTickets can be purchased online via the British Motor Museum website\, which will be posted once available nearer the time. \nNOTE – If you are an LMA or BMFA member\, you can get discounted entry on production of a valid membership card/ proof of membership. To do this\, simply turn up and pay on the day! \n  \nProgramme \nAlongside the models on display\, there will also be a dedicated space/ room for the Swapmeet. \nThe cost is just £20 per table on top of your entrance ticket\, which is payable on the day\, no pre-booking required. \nSetup for this will be between 8am-10am\, with access around the back of the Motor Museum building via the rear doors. After this time\, the doors will be locked and you will need to enter via the main entrance. \nWe also usually have some seminar style talks/ workshops taking place\, which will be announced nearer the time.
URL:https://events.bmfa.uk/event/lma-gaydon-large-model-static-indoor-show
LOCATION:British Motor Museum Gaydon\, British Motor Museum\, Lighthorne Heath\, Warwick\, CV35 0BJ
CATEGORIES:Model Show/Display,Swapmeet/Auction
ATTACH;FMTTYPE=image/jpeg:https://events.bmfa.uk/wp-content/uploads/2026/02/VC10.JPEG-scaled.jpg
GEO:52.1884989;-1.4800342
X-APPLE-STRUCTURED-LOCATION;VALUE=URI;X-ADDRESS=British Motor Museum Gaydon British Motor Museum Lighthorne Heath Warwick CV35 0BJ;X-APPLE-RADIUS=500;X-TITLE=British Motor Museum\, Lighthorne Heath:geo:-1.4800342,52.1884989
END:VEVENT
END:VCALENDAR