BEGIN:VCALENDAR
VERSION:2.0
PRODID:-//BMFA Contests &amp; Events - ECPv6.15.20//NONSGML v1.0//EN
CALSCALE:GREGORIAN
METHOD:PUBLISH
X-WR-CALNAME:BMFA Contests &amp; Events
X-ORIGINAL-URL:https://events.bmfa.uk
X-WR-CALDESC:Events for BMFA Contests &amp; Events
REFRESH-INTERVAL;VALUE=DURATION:PT1H
X-Robots-Tag:noindex
X-PUBLISHED-TTL:PT1H
BEGIN:VTIMEZONE
TZID:Europe/London
BEGIN:DAYLIGHT
TZOFFSETFROM:+0000
TZOFFSETTO:+0100
TZNAME:BST
DTSTART:20250330T010000
END:DAYLIGHT
BEGIN:STANDARD
TZOFFSETFROM:+0100
TZOFFSETTO:+0000
TZNAME:GMT
DTSTART:20251026T010000
END:STANDARD
BEGIN:DAYLIGHT
TZOFFSETFROM:+0000
TZOFFSETTO:+0100
TZNAME:BST
DTSTART:20260329T010000
END:DAYLIGHT
BEGIN:STANDARD
TZOFFSETFROM:+0100
TZOFFSETTO:+0000
TZNAME:GMT
DTSTART:20261025T010000
END:STANDARD
BEGIN:DAYLIGHT
TZOFFSETFROM:+0000
TZOFFSETTO:+0100
TZNAME:BST
DTSTART:20270328T010000
END:DAYLIGHT
BEGIN:STANDARD
TZOFFSETFROM:+0100
TZOFFSETTO:+0000
TZNAME:GMT
DTSTART:20271031T010000
END:STANDARD
BEGIN:DAYLIGHT
TZOFFSETFROM:+0000
TZOFFSETTO:+0100
TZNAME:BST
DTSTART:20280326T010000
END:DAYLIGHT
BEGIN:STANDARD
TZOFFSETFROM:+0100
TZOFFSETTO:+0000
TZNAME:GMT
DTSTART:20281029T010000
END:STANDARD
END:VTIMEZONE
BEGIN:VEVENT
DTSTART;TZID=Europe/London:20261229T100000
DTEND;TZID=Europe/London:20261229T170000
DTSTAMP:20260419T181033
CREATED:20260203T164624Z
LAST-MODIFIED:20260203T164624Z
UID:10002051-1798538400-1798563600@events.bmfa.uk
SUMMARY:Barton Cold Turkey
DESCRIPTION:This is a Barton MFC event open to all BMFA members. The classes to be flown are; \nBritish Goodyear\, Barton B\, Barton Club Speed
URL:https://events.bmfa.uk/event/barton-cold-turkey
LOCATION:Barton MFC\, Barton-Moss\, Irlam\, M30 7RL\, United Kingdom
CATEGORIES:Club Event,Control Line Event
ATTACH;FMTTYPE=image/jpeg:https://events.bmfa.uk/wp-content/uploads/2026/01/DSC_0098-scaled.jpg
GEO:53.4688499;-2.3968689
X-APPLE-STRUCTURED-LOCATION;VALUE=URI;X-ADDRESS=Barton MFC Barton-Moss Irlam M30 7RL United Kingdom;X-APPLE-RADIUS=500;X-TITLE=Barton-Moss:geo:-2.3968689,53.4688499
END:VEVENT
BEGIN:VEVENT
DTSTART;TZID=Europe/London:20270101T000000
DTEND;TZID=Europe/London:20270101T000000
DTSTAMP:20260419T181033
CREATED:20260410T100710Z
LAST-MODIFIED:20260410T102400Z
UID:10002527-1798761600-1798761600@events.bmfa.uk
SUMMARY:Buckminster Mid-week Jet Fly-in's
DESCRIPTION:Open to all BMFA Members –\nIdeal opportunity to receive guidance and assistance –\nLimited places available –\nDay ticket £10 per day –\nRun in accordance with JMA rules and risk assessment –\nCamping available.
URL:https://events.bmfa.uk/event/buckminster-mid-week-jet-fly-ins
LOCATION:BMFA Buckminster\, Main Street\, Sewstern\, Grantham\, Lincolnshire\, NG33 5RW\, United Kingdom
GEO:52.7860118;-0.6844261
X-APPLE-STRUCTURED-LOCATION;VALUE=URI;X-ADDRESS=BMFA Buckminster Main Street Sewstern Grantham Lincolnshire NG33 5RW United Kingdom;X-APPLE-RADIUS=500;X-TITLE=Main Street\, Sewstern:geo:-0.6844261,52.7860118
END:VEVENT
BEGIN:VEVENT
DTSTART;TZID=Europe/London:20270101T000000
DTEND;TZID=Europe/London:20270101T000000
DTSTAMP:20260419T181033
CREATED:20260410T100721Z
LAST-MODIFIED:20260410T102326Z
UID:10002534-1798761600-1798761600@events.bmfa.uk
SUMMARY:BUCKMINSTER RETRO FLY-IN
DESCRIPTION:The Buckminster Retro Fly-In at the National Centre \nJune 27th – 28th \nCamping available – contact manny@bmfa.org \nCafe Open both days \nRetro thermal soaring on Saturday evening. \n 
URL:https://events.bmfa.uk/event/buckminster-retro-fly-in
LOCATION:BMFA Buckminster\, Main Street\, Sewstern\, Grantham\, Lincolnshire\, NG33 5RW\, United Kingdom
GEO:52.7860118;-0.6844261
X-APPLE-STRUCTURED-LOCATION;VALUE=URI;X-ADDRESS=BMFA Buckminster Main Street Sewstern Grantham Lincolnshire NG33 5RW United Kingdom;X-APPLE-RADIUS=500;X-TITLE=Main Street\, Sewstern:geo:-0.6844261,52.7860118
END:VEVENT
END:VCALENDAR