BEGIN:VCALENDAR
VERSION:2.0
PRODID:-//BMFA Contests &amp; Events - ECPv6.15.20//NONSGML v1.0//EN
CALSCALE:GREGORIAN
METHOD:PUBLISH
X-WR-CALNAME:BMFA Contests &amp; Events
X-ORIGINAL-URL:https://events.bmfa.uk
X-WR-CALDESC:Events for BMFA Contests &amp; Events
REFRESH-INTERVAL;VALUE=DURATION:PT1H
X-Robots-Tag:noindex
X-PUBLISHED-TTL:PT1H
BEGIN:VTIMEZONE
TZID:Europe/London
BEGIN:DAYLIGHT
TZOFFSETFROM:+0000
TZOFFSETTO:+0100
TZNAME:BST
DTSTART:20260329T010000
END:DAYLIGHT
BEGIN:STANDARD
TZOFFSETFROM:+0100
TZOFFSETTO:+0000
TZNAME:GMT
DTSTART:20261025T010000
END:STANDARD
BEGIN:DAYLIGHT
TZOFFSETFROM:+0000
TZOFFSETTO:+0100
TZNAME:BST
DTSTART:20270328T010000
END:DAYLIGHT
BEGIN:STANDARD
TZOFFSETFROM:+0100
TZOFFSETTO:+0000
TZNAME:GMT
DTSTART:20271031T010000
END:STANDARD
BEGIN:DAYLIGHT
TZOFFSETFROM:+0000
TZOFFSETTO:+0100
TZNAME:BST
DTSTART:20280326T010000
END:DAYLIGHT
BEGIN:STANDARD
TZOFFSETFROM:+0100
TZOFFSETTO:+0000
TZNAME:GMT
DTSTART:20281029T010000
END:STANDARD
END:VTIMEZONE
BEGIN:VEVENT
DTSTART;TZID=Europe/London:20270508T183000
DTEND;TZID=Europe/London:20270508T220000
DTSTAMP:20260419T211743
CREATED:20240318T221640Z
LAST-MODIFIED:20250129T080902Z
UID:10000560-1809801000-1809813600@events.bmfa.uk
SUMMARY:Tonbridge Gassers and Rubber Fliers
DESCRIPTION:Indoor Fun Fly with timed slots for Free Flight\, Lightweight R/C\, and 3D R/C.
URL:https://events.bmfa.uk/event/tonbridge-gassers-and-rubber-fliers/2027-05-08
LOCATION:Kings Rochester Sports Centre\, 601 Maidstone Road\, Rochester\, Kent\, ME1-3QJ
CATEGORIES:Club Event
GEO:51.3593156;0.4978734
X-APPLE-STRUCTURED-LOCATION;VALUE=URI;X-ADDRESS=Kings Rochester Sports Centre 601 Maidstone Road Rochester Kent ME1-3QJ;X-APPLE-RADIUS=500;X-TITLE=601 Maidstone Road:geo:0.4978734,51.3593156
END:VEVENT
END:VCALENDAR